BEGIN:VCALENDAR
VERSION:2.0
PRODID:-//The Wedge Brothers - ECPv6.15.20//NONSGML v1.0//EN
CALSCALE:GREGORIAN
METHOD:PUBLISH
X-ORIGINAL-URL:https://wedgebrothers.com
X-WR-CALDESC:Events for The Wedge Brothers
REFRESH-INTERVAL;VALUE=DURATION:PT1H
X-Robots-Tag:noindex
X-PUBLISHED-TTL:PT1H
BEGIN:VTIMEZONE
TZID:UTC
BEGIN:STANDARD
TZOFFSETFROM:+0000
TZOFFSETTO:+0000
TZNAME:UTC
DTSTART:20250101T000000
END:STANDARD
END:VTIMEZONE
BEGIN:VEVENT
DTSTART;TZID=UTC:20260307T180000
DTEND;TZID=UTC:20260307T210000
DTSTAMP:20260422T093515
CREATED:20260206T011126Z
LAST-MODIFIED:20260206T011455Z
UID:1402-1772906400-1772917200@wedgebrothers.com
SUMMARY:WEDGE BROTHERS- PRIVATE EVENT AT THE DUSTLAND BAR\, DOWNTOWN LAS VEGAS
DESCRIPTION:THE WEDGE BROTHERS WILL BE PERFORMING A PRIVATE EVENT AT THE DUSTLAND\, LOCATED DOWNTOWN LAS VEGAS! \nSATURDAY\, MARCH 7TH
URL:https://wedgebrothers.com/event/wedge-brothers-private-event-at-the-dustland-downtown-las-vegas/
LOCATION:Dustland\, 1433 S Commerce St\, Las Vegas\, Nevada\, 89102
CATEGORIES:Live Music,The Wedge Brothers
ATTACH;FMTTYPE=image/jpeg:https://wedgebrothers.com/wp-content/uploads/2025/12/IMG_2480-scaled.jpeg
END:VEVENT
END:VCALENDAR