BEGIN:VCALENDAR
VERSION:2.0
PRODID:-//The Wedge Brothers - ECPv6.15.20//NONSGML v1.0//EN
CALSCALE:GREGORIAN
METHOD:PUBLISH
X-ORIGINAL-URL:https://wedgebrothers.com
X-WR-CALDESC:Events for The Wedge Brothers
REFRESH-INTERVAL;VALUE=DURATION:PT1H
X-Robots-Tag:noindex
X-PUBLISHED-TTL:PT1H
BEGIN:VTIMEZONE
TZID:UTC
BEGIN:STANDARD
TZOFFSETFROM:+0000
TZOFFSETTO:+0000
TZNAME:UTC
DTSTART:20200101T000000
END:STANDARD
END:VTIMEZONE
BEGIN:VEVENT
DTSTART;TZID=UTC:20230916T190000
DTEND;TZID=UTC:20230916T220000
DTSTAMP:20260422T154317
CREATED:20230902T145357Z
LAST-MODIFIED:20230902T145357Z
UID:689-1694890800-1694901600@wedgebrothers.com
SUMMARY:Tom Rojas & Kelly Sheehan at Big Dogs Brewing Company
DESCRIPTION:Tom and Kelly will be performing again at the new Big Dogs Tap Room inside Big Dogs Brewing Company.\nIf you haven’t seen the new room come check it out and catch our show on Saturday\, September 16th! 7:00 start time!
URL:https://wedgebrothers.com/event/tom-rojas-kelly-sheehan-at-big-dogs-brewing-company/
LOCATION:Big Dog’s Brewing Company\, 4543 N Rancho Dr\, Las Vegas\, NV 89130\, Las Vegas
CATEGORIES:Live Music,The Wedge Brothers
ATTACH;FMTTYPE=image/png:https://wedgebrothers.com/wp-content/uploads/2023/09/PNG-image.png
END:VEVENT
BEGIN:VEVENT
DTSTART;TZID=UTC:20230908T170000
DTEND;TZID=UTC:20230908T200000
DTSTAMP:20260422T154317
CREATED:20230901T205451Z
LAST-MODIFIED:20230901T205451Z
UID:676-1694192400-1694203200@wedgebrothers.com
SUMMARY:Tom Rojas & Kelly Sheehan at Vino Las Vegas Wine Club
DESCRIPTION:Join Tom and Kelly as they perform during Happy Hour at the beautiful\nVino Las Vegas Wine Club in the Desert Shores Community near Summerlin!\nFriday\, September 8th\, 5:00 -8:00 pm
URL:https://wedgebrothers.com/event/tom-rojas-kelly-sheehan-at-vino-las-vegas-wine-club-2/
LOCATION:Vino Las Vegas Wine Club\, 2620 Regatta Drive\, Las Vegas\, NV\, 89128
CATEGORIES:Live Music,The Wedge Brothers
ATTACH;FMTTYPE=image/png:https://wedgebrothers.com/wp-content/uploads/2023/09/Screenshot-2023-08-30-at-1.23.48-PM.png
END:VEVENT
BEGIN:VEVENT
DTSTART;TZID=UTC:20230819T190000
DTEND;TZID=UTC:20230819T220000
DTSTAMP:20260422T154317
CREATED:20230817T193810Z
LAST-MODIFIED:20230817T193810Z
UID:668-1692471600-1692482400@wedgebrothers.com
SUMMARY:Tom Rojas and Kelly Sheehan at Big Dogs Brewing Company
DESCRIPTION:Join Tom with guest Kelly Sheehan of Kelly & The Strays for a fun evening of acoustic music at the famous Big Dog’s Brewing Company in Las Vegas!  Free Show\, New Indoor Venue\, and of course great Food & Beer! \nSaturday\, August 19th  7:00 pm – 10:00 pm
URL:https://wedgebrothers.com/event/tom-rojas-and-kelly-sheehan-at-big-dogs-brewing-company/
LOCATION:Big Dog’s Brewing Company\, 4543 N Rancho Dr\, Las Vegas\, NV 89130\, Las Vegas
CATEGORIES:Live Music,The Wedge Brothers
ATTACH;FMTTYPE=image/png:https://wedgebrothers.com/wp-content/uploads/2023/08/IMG_1632.png
END:VEVENT
BEGIN:VEVENT
DTSTART;TZID=UTC:20230715T200000
DTEND;TZID=UTC:20230715T230000
DTSTAMP:20260422T154317
CREATED:20230713T191937Z
LAST-MODIFIED:20230713T191937Z
UID:662-1689451200-1689462000@wedgebrothers.com
SUMMARY:Tom Solo Performance at New Distill Bar in Inspirada
DESCRIPTION:Join Tom for an evening of solo entertainment at the\nnew Distill – A Locals Bar located in Inspirada!\nSaturday\, July 15th\, 8:00 pm – 11:00 pm\n \n 
URL:https://wedgebrothers.com/event/tom-solo-performance-at-new-distill-bar-in-inspirada/
LOCATION:Distill Inspirada\, 2293 Via Inspirada\, Henderson\, Nevada\, 89044
CATEGORIES:Live Music,The Wedge Brothers
ATTACH;FMTTYPE=image/png:https://wedgebrothers.com/wp-content/uploads/2023/07/Screenshot-2023-07-12-at-5.21.03-PM.png
END:VEVENT
BEGIN:VEVENT
DTSTART;TZID=UTC:20230714T210000
DTEND;TZID=UTC:20230714T233000
DTSTAMP:20260422T154317
CREATED:20230615T150450Z
LAST-MODIFIED:20230615T150450Z
UID:651-1689368400-1689377400@wedgebrothers.com
SUMMARY:The Wedge Brothers With Special Guest Kelly Sheehan at Silver Sevens Casino
DESCRIPTION:Join the band with special guest Kelly Sheehan at the Silver Sevens Casino Lounge\nFriday\, July 14th\, 9:00 pm – Midnight
URL:https://wedgebrothers.com/event/the-wedge-brothers-with-special-guest-kelly-sheehan-at-silver-sevens-casino/
LOCATION:Silver Sevens Casino\, 4100 Paradise Rd\, Las Vegas\, Nevada\, 89169
CATEGORIES:Live Music,The Wedge Brothers
ATTACH;FMTTYPE=image/png:https://wedgebrothers.com/wp-content/uploads/2023/06/Wedge-Brothers-with-Kelly-Sheehan.png
END:VEVENT
BEGIN:VEVENT
DTSTART;TZID=UTC:20230518T170000
DTEND;TZID=UTC:20230518T200000
DTSTAMP:20260422T154317
CREATED:20230509T172130Z
LAST-MODIFIED:20230509T172130Z
UID:632-1684429200-1684440000@wedgebrothers.com
SUMMARY:Tom Rojas & Kelly Sheehan at Vino Las Vegas Wine Club!
DESCRIPTION:Join Tom and Kelly for another intimate evening at the fabulous\nVino Las Vegas Wine Club!\nTHURSDAY\, MAY 18th! 5:00 – 8:00 PM\nA special Happy Hour event featuring live music\, small bites and a great collection of wines!\n \nNo Cover Charge!
URL:https://wedgebrothers.com/event/tom-rojas-kelly-sheehan-at-vino-las-vegas-wine-club/
LOCATION:Vino Las Vegas Wine Club\, 2620 Regatta Drive\, Las Vegas\, NV\, 89128
CATEGORIES:Live Music,The Wedge Brothers
ATTACH;FMTTYPE=image/jpeg:https://wedgebrothers.com/wp-content/uploads/2023/05/IMG_0349.jpeg
END:VEVENT
BEGIN:VEVENT
DTSTART;TZID=UTC:20230505T170000
DTEND;TZID=UTC:20230505T210000
DTSTAMP:20260422T154317
CREATED:20230503T160457Z
LAST-MODIFIED:20230503T160457Z
UID:624-1683306000-1683320400@wedgebrothers.com
SUMMARY:CINCO DE MAYO WITH THE WEDGE BROTHERS
DESCRIPTION:Join us for a fun evening in The Corner at\nJohn Cutter and Al’s Garage for the biggest\nCinco De Mayo party in Las Vegas!
URL:https://wedgebrothers.com/event/cinco-de-mayo-with-the-wedge-brothers/
LOCATION:Als Garage\, 11760 W Charleston Blvd\, Las Vegas\, 89135
CATEGORIES:Live Music,The Wedge Brothers
ATTACH;FMTTYPE=image/png:https://wedgebrothers.com/wp-content/uploads/2023/05/IMG_0497.png
END:VEVENT
BEGIN:VEVENT
DTSTART;TZID=UTC:20230503T190000
DTEND;TZID=UTC:20230503T230000
DTSTAMP:20260422T154317
CREATED:20230503T161214Z
LAST-MODIFIED:20230503T161214Z
UID:627-1683140400-1683154800@wedgebrothers.com
SUMMARY:Wedge Brothers At The Nile Theater - Mesa\, Arizona
DESCRIPTION:The Wedge Brothers will be joining other musicians for another great corporate event\, sponsored by Tempest\, at the cool Nile Theater in Mesa\, Arizona!  Tom and Jack from the Wedge will be jamming with friends\, Gregg Shapiro\, Jefferey Henderson\, Craig Harris and Kelly Sheehan\, along with some other special guests for a night filled with fun and rock n roll!
URL:https://wedgebrothers.com/event/wedge-brothers-at-the-nile-theater-mesa-arizona/
LOCATION:The Nile Theater\, 104 West Main Street\, Mesa\, Arizona
CATEGORIES:Live Music,The Wedge Brothers
ATTACH;FMTTYPE=image/jpeg:https://wedgebrothers.com/wp-content/uploads/2023/05/IMG_0088.jpeg
END:VEVENT
BEGIN:VEVENT
DTSTART;TZID=UTC:20230407T170000
DTEND;TZID=UTC:20230407T200000
DTSTAMP:20260422T154317
CREATED:20230403T201829Z
LAST-MODIFIED:20230403T201829Z
UID:612-1680886800-1680897600@wedgebrothers.com
SUMMARY:Enjoy An Intimate Evening With Tom\, Featuring Kelly Sheehan at Vino Las Vegas Wine Club
DESCRIPTION:Join us on Friday\, April 7th at 5:00 pm for an intimate evening of acoustic tunes featuring Tom and Kelly at the Vino Las Vegas Wine Club at Lakeside Village! No Cover Charge!\n \n 
URL:https://wedgebrothers.com/event/enjoy-an-intimate-evening-with-tom-featuring-kelly-sheehan-at-vino-las-vegas-wine-club/
LOCATION:Vino Las Vegas Wine Club\, 2620 Regatta Drive\, Las Vegas\, NV\, 89128
CATEGORIES:Live Music,The Wedge Brothers
ATTACH;FMTTYPE=image/png:https://wedgebrothers.com/wp-content/uploads/2023/04/Screenshot-2023-03-27-at-3.52.20-PM.png
END:VEVENT
BEGIN:VEVENT
DTSTART;TZID=UTC:20230329T180000
DTEND;TZID=UTC:20230329T210000
DTSTAMP:20260422T154317
CREATED:20230301T173202Z
LAST-MODIFIED:20230301T173202Z
UID:603-1680112800-1680123600@wedgebrothers.com
SUMMARY:Wedge Brothers Corporate Event at Stoney's Rockin Country
DESCRIPTION:The Wedge Brothers will be performing a private corporate event at the famous Stoney’s Rockin Country on Las Vegas Boulevard\, Wednesday\, March 29th!\n  \nPacked dance floor at Stoney’s Rockin’ Country (PRNewsFoto/Stoney’s Rockin’ Country)
URL:https://wedgebrothers.com/event/wedge-brothers-corporate-event-at-stoneys-rockin-country/
LOCATION:Stoney’s Rockin Country\, 6611 Las Vegas Blvd S #160\, Las Vegas\, NV\, 89119\, United States
CATEGORIES:Live Music,The Wedge Brothers
ATTACH;FMTTYPE=image/jpeg:https://wedgebrothers.com/wp-content/uploads/2023/03/original_stoney-vmb_8A366161-F6BD-98F8-B22F7C910B004CB8-8a366025cd47611.jpg
END:VEVENT
BEGIN:VEVENT
DTSTART;TZID=UTC:20230121T190000
DTEND;TZID=UTC:20230121T220000
DTSTAMP:20260422T154317
CREATED:20230102T163452Z
LAST-MODIFIED:20230102T163452Z
UID:592-1674327600-1674338400@wedgebrothers.com
SUMMARY:Wedge Brothers at Red Rock - Private Event
DESCRIPTION:The Wedge Brothers will be performing at Red Rock Country Club for a private event!
URL:https://wedgebrothers.com/event/wedge-brothers-at-red-rock-private-event/
LOCATION:Red Rock Country Club
CATEGORIES:Live Music,The Wedge Brothers
ATTACH;FMTTYPE=image/jpeg:https://wedgebrothers.com/wp-content/uploads/2021/12/Wedge-Bros-1-139-scaled.jpg
END:VEVENT
BEGIN:VEVENT
DTSTART;TZID=UTC:20221028T180000
DTEND;TZID=UTC:20221028T220000
DTSTAMP:20260422T154317
CREATED:20220810T215529Z
LAST-MODIFIED:20220810T215529Z
UID:536-1666980000-1666994400@wedgebrothers.com
SUMMARY:Halloween With The Wedge Brothers
DESCRIPTION:It’s going to be another epic Halloween Party with the band in The Corner at John Cutters & Als’ Garage!\nJoin Us for a spooky evening\, Friday\, October 28th 6-10 pm!
URL:https://wedgebrothers.com/event/halloween-with-the-wedge-brothers/
LOCATION:Als Garage\, 11760 W Charleston Blvd\, Las Vegas\, 89135
CATEGORIES:Live Music,The Wedge Brothers
ATTACH;FMTTYPE=image/jpeg:https://wedgebrothers.com/wp-content/uploads/2022/06/250721363_10223455867579346_4723876778561007781_n.jpeg
END:VEVENT
BEGIN:VEVENT
DTSTART;TZID=UTC:20221015T180000
DTEND;TZID=UTC:20221015T230000
DTSTAMP:20260422T154317
CREATED:20220907T214306Z
LAST-MODIFIED:20220907T214306Z
UID:553-1665856800-1665874800@wedgebrothers.com
SUMMARY:Kelly Sheehan & The Strays With Some Of The Wedge Brother At Dogtoberfest - Big Dogs Brewing Company
DESCRIPTION:Don’t miss this Furry Fundraiser Festival with the best Craft Beer\, brats\, music\, raffles & the best party in Vegas!\nThe Strays are back to headline this doggo-friendly event – NO COVER!!!\nSaturday\, October 15th\, 2022\nAll Day Event\, We headline 7 pm!
URL:https://wedgebrothers.com/event/kelly-sheehan-the-strays-with-some-of-the-wedge-brother-at-dogtoberfest-big-dogs-brewing-company/
LOCATION:Big Dog’s Brewing Company\, 4543 N Rancho Dr\, Las Vegas\, NV 89130\, Las Vegas
CATEGORIES:Live Music,The Wedge Brothers
ATTACH;FMTTYPE=image/png:https://wedgebrothers.com/wp-content/uploads/2022/09/Screen-Shot-2022-09-07-at-2.39.32-PM.png
END:VEVENT
BEGIN:VEVENT
DTSTART;TZID=UTC:20221001T180000
DTEND;TZID=UTC:20221001T220000
DTSTAMP:20260422T154317
CREATED:20220907T213720Z
LAST-MODIFIED:20220907T213720Z
UID:549-1664647200-1664661600@wedgebrothers.com
SUMMARY:Wedge Brothers Join Kelly Sheehan & The Strays For Octoberfest At The Orleans Hotel
DESCRIPTION:Kelly Sheehan & The Strays\, Including Several Of The Wedge Brothers\, Will Be Headlining\nThe Seven Oh Brew Octoberfest At The Orleans On The Main Stage\, Saturday\, October 1st\, 7 pm! \n \n 
URL:https://wedgebrothers.com/event/wedge-brothers-join-kelly-sheehan-the-strays-for-octoberfest-at-the-orleans-hotel/
LOCATION:Orleans Hotel\, Orleans Arena\, Las Vegas\, Nevada
CATEGORIES:Live Music,The Wedge Brothers
ATTACH;FMTTYPE=image/png:https://wedgebrothers.com/wp-content/uploads/2022/09/Screen-Shot-2022-09-07-at-2.34.02-PM.png
END:VEVENT
BEGIN:VEVENT
DTSTART;TZID=UTC:20220930T180000
DTEND;TZID=UTC:20220930T210000
DTSTAMP:20260422T154317
CREATED:20220808T174043Z
LAST-MODIFIED:20220808T174043Z
UID:531-1664560800-1664571600@wedgebrothers.com
SUMMARY:We Are "Back In The Corner" at John Cutter & Al's Garage for FINAL FRIDAY!
DESCRIPTION:Join Us as we kick off the Final Friday Party Series in The Corner at\nJohn Cutter and Al’s Garage!
URL:https://wedgebrothers.com/event/we-are-back-in-the-corner-at-john-cutter-als-garage-for-final-friday/
LOCATION:Als Garage\, 11760 W Charleston Blvd\, Las Vegas\, 89135
CATEGORIES:Live Music,The Wedge Brothers
ATTACH;FMTTYPE=image/jpeg:https://wedgebrothers.com/wp-content/uploads/2021/09/242180182_10220028848607445_5265742508301533037_n.jpeg
END:VEVENT
BEGIN:VEVENT
DTSTART;TZID=UTC:20220924T190000
DTEND;TZID=UTC:20220924T220000
DTSTAMP:20260422T154317
CREATED:20220810T215224Z
LAST-MODIFIED:20220810T215228Z
UID:533-1664046000-1664056800@wedgebrothers.com
SUMMARY:The Wedge At Tommy Rocker's!
DESCRIPTION:Going back to where it all started\, 23 years ago!\nJoin the band for a fun evening on Saturday\, September 24th at the famous Tommy Rocker’s
URL:https://wedgebrothers.com/event/the-wedge-at-tommy-rockers/
LOCATION:Tommy Rocker’s\, 4275 Dean Martin Drive\, Las Vegas\, Nevada\, 89103\, United States
CATEGORIES:Live Music,The Wedge Brothers
ATTACH;FMTTYPE=image/jpeg:https://wedgebrothers.com/wp-content/uploads/2022/06/74651340_10215906387235893_2913087510114467840_n.jpeg
END:VEVENT
BEGIN:VEVENT
DTSTART;TZID=UTC:20220820T180000
DTEND;TZID=UTC:20220820T220000
DTSTAMP:20260422T154317
CREATED:20220810T215844Z
LAST-MODIFIED:20220810T220007Z
UID:538-1661018400-1661032800@wedgebrothers.com
SUMMARY:PRIVATE EVENT - Tournament Hills\, Las Vegas
DESCRIPTION:The band is booked this evening for a private event!
URL:https://wedgebrothers.com/event/private-event-tournament-hills-las-vegas/
CATEGORIES:Live Music,The Wedge Brothers
ATTACH;FMTTYPE=image/jpeg:https://wedgebrothers.com/wp-content/uploads/2022/06/11483_10200747017432285_71831022_n.jpeg
END:VEVENT
BEGIN:VEVENT
DTSTART;TZID=UTC:20220721T200000
DTEND;TZID=UTC:20220721T230000
DTSTAMP:20260422T154317
CREATED:20220627T222732Z
LAST-MODIFIED:20220627T225440Z
UID:517-1658433600-1658444400@wedgebrothers.com
SUMMARY:Wedge Brothers In Toronto!
DESCRIPTION:The Wedge Brothers will be performing a corporate again in Canada\, this time in Toronto\, on Thursday\, July 21st! \n 
URL:https://wedgebrothers.com/event/wedge-brothers-in-toronto/
CATEGORIES:Live Music,The Wedge Brothers
ATTACH;FMTTYPE=image/jpeg:https://wedgebrothers.com/wp-content/uploads/2022/06/241719151_10223212728701026_4203711968061533943_n.jpeg
END:VEVENT
BEGIN:VEVENT
DTSTART;TZID=UTC:20220519T190000
DTEND;TZID=UTC:20220519T230000
DTSTAMP:20260422T154317
CREATED:20220505T233202Z
LAST-MODIFIED:20220505T233219Z
UID:438-1652986800-1653001200@wedgebrothers.com
SUMMARY:The Wedge Brothers at The Factory\, Dallas\, Texas
DESCRIPTION:The Wedge Brothers will be performing a private event at the famous “The Factory In Deep Ellum” on Thursday\, May 19th!
URL:https://wedgebrothers.com/event/the-wedge-brothers-at-the-factory-dallas-texas/
LOCATION:The Factory In Deep Ellum\, Dallas\, Texas\, United States
CATEGORIES:Live Music
ATTACH;FMTTYPE=image/jpeg:https://wedgebrothers.com/wp-content/uploads/2022/05/thefactory.jpeg
END:VEVENT
BEGIN:VEVENT
DTSTART;TZID=UTC:20220429T170000
DTEND;TZID=UTC:20220429T210000
DTSTAMP:20260422T154317
CREATED:20220305T000915Z
LAST-MODIFIED:20220305T000915Z
UID:425-1651251600-1651266000@wedgebrothers.com
SUMMARY:FINAL FRIDAY'S ARE BACK IN THE CORNER
DESCRIPTION:We’re back in The Corner at Al’s Garage and John Cutter for the Spring\, Summer and Fall series of FINAL FRIDAY Parties\, with this first one following their 4th Annual Charity Golf Event!  Join us Friday\, April 29th!
URL:https://wedgebrothers.com/event/final-fridays-are-back-in-the-corner/
LOCATION:Als Garage\, 11760 W Charleston Blvd\, Las Vegas\, 89135
CATEGORIES:Live Music,The Wedge Brothers
ATTACH;FMTTYPE=image/png:https://wedgebrothers.com/wp-content/uploads/2022/03/Screen-Shot-2022-03-04-at-12.30.18-PM.png
END:VEVENT
BEGIN:VEVENT
DTSTART;TZID=UTC:20220407T190000
DTEND;TZID=UTC:20220407T220000
DTSTAMP:20260422T154317
CREATED:20220305T000252Z
LAST-MODIFIED:20220305T000252Z
UID:421-1649358000-1649368800@wedgebrothers.com
SUMMARY:Wedge Brothers at Paymon's - Kicking Off Live Music Series
DESCRIPTION:JOIN THE BAND FOR A GREAT DINNER AND SHOW AS WE KICK OFF THE LIVE MUSIC AT PAYMON’S ON WEST SAHARA!\n  \nDINNER RESERVATIONS ARE RECOMMENDED!  CALL (702) 804-0293
URL:https://wedgebrothers.com/event/wedge-brothers-at-paymons-kicking-off-live-music-series/
LOCATION:Paymon’s\, 8380 W Sahara Ave\, Las Vegas\, NV\, 89117\, United States
CATEGORIES:Live Music,The Wedge Brothers
ATTACH;FMTTYPE=image/jpeg:https://wedgebrothers.com/wp-content/uploads/2022/03/Paymons_LivMusiic_SM.jpg
END:VEVENT
BEGIN:VEVENT
DTSTART;TZID=UTC:20220317T170000
DTEND;TZID=UTC:20220317T210000
DTSTAMP:20260422T154317
CREATED:20220131T235643Z
LAST-MODIFIED:20220223T175949Z
UID:403-1647536400-1647550800@wedgebrothers.com
SUMMARY:The Wedge Brothers In The Corner On St. Patrick's Day
DESCRIPTION:Once again the boys will be up at John Cutter Tavern and Al’s Garage\nfor the best outdoor and indoor party in Vegas!\n \n 
URL:https://wedgebrothers.com/event/the-wedge-brothers-in-the-corner-on-st-patricks-day/
LOCATION:John Cutter Tavern\, 11770 W Charleston Blvd # 110\, Las Vegas\, NV\, 89135\, United States
CATEGORIES:Live Music,The Wedge Brothers
ATTACH;FMTTYPE=image/jpeg:https://wedgebrothers.com/wp-content/uploads/2022/01/WedgeBros-StPatricks22-IG.jpg
END:VEVENT
BEGIN:VEVENT
DTSTART;TZID=UTC:20211008T170000
DTEND;TZID=UTC:20211008T210000
DTSTAMP:20260422T154317
CREATED:20210829T003520Z
LAST-MODIFIED:20210927T163537Z
UID:305-1633712400-1633726800@wedgebrothers.com
SUMMARY:Annual Simon Keith Foundation Charity Classic
DESCRIPTION:OUR ANNUAL PERFORMANCE CELEBRATING TRANSPLANT PATIENTS AND THE\nSIMON KEITH FOUNDATION!\n \n 
URL:https://wedgebrothers.com/event/annual-simon-keith-foundation-charity-classic/
LOCATION:Revere Golf Club\, Las Vegas\, NV\, United States
CATEGORIES:Live Music,The Wedge Brothers
ATTACH;FMTTYPE=image/png:https://wedgebrothers.com/wp-content/uploads/2021/09/Screen-Shot-2021-09-20-at-10.06.22-AM.png
END:VEVENT
BEGIN:VEVENT
DTSTART;TZID=UTC:20210925T190000
DTEND;TZID=UTC:20210925T210000
DTSTAMP:20260422T154317
CREATED:20210916T231918Z
LAST-MODIFIED:20210916T231918Z
UID:322-1632596400-1632603600@wedgebrothers.com
SUMMARY:Iv'e Got The Music In Me Special Event- Craig Ranch Regional Park
DESCRIPTION:Join Tom and Alex from the band as they are part of the “Strays” featuring Kelly Sheehan\, at the Craig Ranch Regional Park for the Down Syndrome of Southern Nevada Organization!
URL:https://wedgebrothers.com/event/ive-got-the-music-in-me-special-event-craig-ranch-regional-park/
LOCATION:Craig Ranch Regional Park\, 628 West Craig Road\, Las Vegas\, NV\, 89032\, United States
CATEGORIES:Live Music,The Wedge Brothers
ATTACH;FMTTYPE=image/jpeg:https://wedgebrothers.com/wp-content/uploads/2021/09/206069030_10158701811243889_4805823139969248554_n.jpeg
END:VEVENT
BEGIN:VEVENT
DTSTART;TZID=UTC:20210924T183000
DTEND;TZID=UTC:20210924T223000
DTSTAMP:20260422T154317
CREATED:20210828T203316Z
LAST-MODIFIED:20210828T203316Z
UID:302-1632508200-1632522600@wedgebrothers.com
SUMMARY:Wedge Brothers At John Cutters Tavern For Anniversary Party
DESCRIPTION:JOIN THE BAND AS WE PERFORM AT\nJOHN CUTTERS ANNIVERSARY PARTY\n 
URL:https://wedgebrothers.com/event/wedge-brothers-at-john-cutters-tavern-for-anniversary-party/
LOCATION:John Cutter Tavern\, 11770 W Charleston Blvd # 110\, Las Vegas\, NV\, 89135\, United States
CATEGORIES:Live Music,The Wedge Brothers
ATTACH;FMTTYPE=image/png:https://wedgebrothers.com/wp-content/uploads/2021/08/Screen-Shot-2019-11-06-at-11.35.48-AM.png
END:VEVENT
BEGIN:VEVENT
DTSTART;TZID=UTC:20210918T180000
DTEND;TZID=UTC:20210918T210000
DTSTAMP:20260422T154317
CREATED:20210828T201646Z
LAST-MODIFIED:20210828T201646Z
UID:290-1631988000-1631998800@wedgebrothers.com
SUMMARY:Wedge Brothers at Clark High School Reunion Party
DESCRIPTION:THE WEDGE BROTHERS PERFORMING AT\nCLARK HIGH SCHOOL REUNION PARTY
URL:https://wedgebrothers.com/event/wedge-brothers-at-clark-high-school-reunion-party/
LOCATION:John Cutter Tavern\, 11770 W Charleston Blvd # 110\, Las Vegas\, NV\, 89135\, United States
CATEGORIES:Live Music,The Wedge Brothers
ATTACH;FMTTYPE=image/png:https://wedgebrothers.com/wp-content/uploads/2021/08/Screen-Shot-2021-08-28-at-1.12.24-PM.png
END:VEVENT
BEGIN:VEVENT
DTSTART;TZID=UTC:20210911T110000
DTEND;TZID=UTC:20210911T140000
DTSTAMP:20260422T154317
CREATED:20210828T203025Z
LAST-MODIFIED:20210828T203518Z
UID:297-1631358000-1631368800@wedgebrothers.com
SUMMARY:Wedge Brothers On The Mountain - Brianhead\, Utah
DESCRIPTION:THE WEDGE BROTHERS WILL BE JOINING KELLY SHEEHAN AS THE “STRAYS” FOR THIS FUN EVENT ON THE MOUNTAIN IN BRIANHEAD\, UTAH!
URL:https://wedgebrothers.com/event/wedge-brothers-on-the-mountain-brianhead-utah/
LOCATION:Brianhead\, Utah\, Brianhead
CATEGORIES:Live Music,The Wedge Brothers
ATTACH;FMTTYPE=image/png:https://wedgebrothers.com/wp-content/uploads/2021/08/0AC6FAE8-878F-40DB-9CDC-C1BC521B89E9.png
END:VEVENT
BEGIN:VEVENT
DTSTART;TZID=UTC:20210909T180000
DTEND;TZID=UTC:20210909T210000
DTSTAMP:20260422T154317
CREATED:20210828T202427Z
LAST-MODIFIED:20210828T202427Z
UID:294-1631210400-1631221200@wedgebrothers.com
SUMMARY:Tom Rojas and Shawn Eiferman at Hard Rock Cafe
DESCRIPTION:TOM ROJAS AND SHAWN EIFERMAN AT THE\nHARD ROCK CAFE
URL:https://wedgebrothers.com/event/tom-rojas-and-shawn-eiferman-at-hard-rock-cafe-2/
LOCATION:Hard Rock Cafe Las Vegas\, 3771 Las Vegas Blvd S #120\, Las Vegas\, NV\, 89109\, United States
CATEGORIES:Live Music,The Wedge Brothers
ATTACH;FMTTYPE=image/png:https://wedgebrothers.com/wp-content/uploads/2021/08/Screen-Shot-2021-08-28-at-1.20.20-PM.png
END:VEVENT
BEGIN:VEVENT
DTSTART;TZID=UTC:20210826T190000
DTEND;TZID=UTC:20210826T230000
DTSTAMP:20260422T154317
CREATED:20210828T145806Z
LAST-MODIFIED:20210828T145806Z
UID:275-1630004400-1630018800@wedgebrothers.com
SUMMARY:The Wedge Brothers In Houston Texas
DESCRIPTION:THE WEDGE BROTHERS PRIVATE EVENT\nHOUSTON\, TEXAS\n 
URL:https://wedgebrothers.com/event/the-wedge-brothers-in-houston-texas/
LOCATION:B-52 Brewing Company\, 12470 Milroy Ln\, Conroe\, TX\, 77304\, United States
CATEGORIES:Live Music,The Wedge Brothers
ATTACH;FMTTYPE=image/png:https://wedgebrothers.com/wp-content/uploads/2021/08/Screen-Shot-2021-08-28-at-7.55.52-AM.png
END:VEVENT
END:VCALENDAR