BEGIN:VCALENDAR
VERSION:2.0
PRODID:-//The Wedge Brothers - ECPv6.15.20//NONSGML v1.0//EN
CALSCALE:GREGORIAN
METHOD:PUBLISH
X-ORIGINAL-URL:https://wedgebrothers.com
X-WR-CALDESC:Events for The Wedge Brothers
REFRESH-INTERVAL;VALUE=DURATION:PT1H
X-Robots-Tag:noindex
X-PUBLISHED-TTL:PT1H
BEGIN:VTIMEZONE
TZID:UTC
BEGIN:STANDARD
TZOFFSETFROM:+0000
TZOFFSETTO:+0000
TZNAME:UTC
DTSTART:20240101T000000
END:STANDARD
END:VTIMEZONE
BEGIN:VEVENT
DTSTART;TZID=UTC:20251231T210000
DTEND;TZID=UTC:20260101T010000
DTSTAMP:20260422T184226
CREATED:20251120T152547Z
LAST-MODIFIED:20251224T183710Z
UID:1349-1767214800-1767229200@wedgebrothers.com
SUMMARY:NEW YEAR'S EVE  WITH THE WEDGE BROTHERS
DESCRIPTION:The Wedge Brothers will be bringing in the 2026 Year at Big Dog’s Brewing Company!  Join us for a fun night as we celebrate the new year!  Live Music\, Great Food & Drink Specials\, and lots of Friends!  The Music Starts at 9:00 pm!
URL:https://wedgebrothers.com/event/new-years-eve-with-the-wedge-brothers/
LOCATION:Big Dog’s Brewing Company\, 4543 N Rancho Dr\, Las Vegas\, NV 89130\, Las Vegas
CATEGORIES:Live Music,New Years Eve,The Wedge Brothers
ATTACH;FMTTYPE=image/png:https://wedgebrothers.com/wp-content/uploads/2025/11/Screenshot-2025-12-24-at-10.35.59-AM.png
END:VEVENT
END:VCALENDAR