BEGIN:VCALENDAR
VERSION:2.0
PRODID:-//The Wedge Brothers - ECPv6.15.20//NONSGML v1.0//EN
CALSCALE:GREGORIAN
METHOD:PUBLISH
X-WR-CALNAME:The Wedge Brothers
X-ORIGINAL-URL:https://wedgebrothers.com
X-WR-CALDESC:Events for The Wedge Brothers
REFRESH-INTERVAL;VALUE=DURATION:PT1H
X-Robots-Tag:noindex
X-PUBLISHED-TTL:PT1H
BEGIN:VTIMEZONE
TZID:UTC
BEGIN:STANDARD
TZOFFSETFROM:+0000
TZOFFSETTO:+0000
TZNAME:UTC
DTSTART:20240101T000000
END:STANDARD
END:VTIMEZONE
BEGIN:VEVENT
DTSTART;TZID=UTC:20250913T160000
DTEND;TZID=UTC:20250913T163000
DTSTAMP:20260422T135858
CREATED:20250806T153331Z
LAST-MODIFIED:20250806T153410Z
UID:1210-1757779200-1757781000@wedgebrothers.com
SUMMARY:The Wedge Brothers Live at Collabchella Music Festival
DESCRIPTION:The Wedge Brothers will be kicking off the Collabchella Music Festival at the Collaboration Center Foundation on Saturday\, September 13th at 4:00 pm!\nThere are some great bands on the bill\, including Zowie Bowie\, who will be closing the show!  Get your tickets online and help us support this great cause!\n 
URL:https://wedgebrothers.com/event/the-wedge-brothers-live-at-collab/
LOCATION:Collaboration Center Foundation\, 8390 West Windmill Lane\, Las Vegas\, Nevada\, 89113
CATEGORIES:Live Music,The Wedge Brothers
ATTACH;FMTTYPE=image/png:https://wedgebrothers.com/wp-content/uploads/2025/08/Collabchella-Flyer.png
END:VEVENT
BEGIN:VEVENT
DTSTART;TZID=UTC:20250913T190000
DTEND;TZID=UTC:20250913T220000
DTSTAMP:20260422T135858
CREATED:20250806T153953Z
LAST-MODIFIED:20250808T234744Z
UID:1217-1757790000-1757800800@wedgebrothers.com
SUMMARY:The Wedge Brothers Perform For The Clark High Class of 1980 Reunion!
DESCRIPTION:Calling all Clark Chargers!\nThe band will be performing for the Clark High School Class of 1980 Reunion Party\nat Angel Park on Saturday\, September 13th\, 2025 from 7:00 pm – 10:00 pm!\n 
URL:https://wedgebrothers.com/event/the-wedge-brothers-perform-for-the-clark-high-class-of-1980-reunion/
LOCATION:Angel Park Golf Club\, 100 S Rampart Boulevard\, Las Vegas\, NV\, 89145\, United States
CATEGORIES:Live Music,The Wedge Brothers
ATTACH;FMTTYPE=image/png:https://wedgebrothers.com/wp-content/uploads/2025/08/Clark-High-1980-Reunion-Flyer-1.png
END:VEVENT
BEGIN:VEVENT
DTSTART;TZID=UTC:20250926T170000
DTEND;TZID=UTC:20250926T210000
DTSTAMP:20260422T135858
CREATED:20250806T175638Z
LAST-MODIFIED:20250904T011535Z
UID:1222-1758906000-1758920400@wedgebrothers.com
SUMMARY:The Wedge Brothers Live In The Corner For The John Cutter 17th Anniversary Party
DESCRIPTION:It’s another year and another fun night planned as the band performs at the\nJohn Cutter 17th Anniversary Party – Friday\, September 26th\, 6:00 pm!\n \n  \n  \n  \n  \n  \n 
URL:https://wedgebrothers.com/event/the-wedge-brothers-live-in-the-corner-for-the-john-cutter-17th-anniversary-party/
LOCATION:John Cutter Tavern\, 11770 W Charleston Blvd # 110\, Las Vegas\, NV\, 89135\, United States
CATEGORIES:Live Music,The Wedge Brothers
ATTACH;FMTTYPE=image/png:https://wedgebrothers.com/wp-content/uploads/2025/08/JC-17-Year-Anniversary-Flyer.png
END:VEVENT
END:VCALENDAR