BEGIN:VCALENDAR
VERSION:2.0
PRODID:-//The Wedge Brothers - ECPv6.15.20//NONSGML v1.0//EN
CALSCALE:GREGORIAN
METHOD:PUBLISH
X-ORIGINAL-URL:https://wedgebrothers.com
X-WR-CALDESC:Events for The Wedge Brothers
REFRESH-INTERVAL;VALUE=DURATION:PT1H
X-Robots-Tag:noindex
X-PUBLISHED-TTL:PT1H
BEGIN:VTIMEZONE
TZID:UTC
BEGIN:STANDARD
TZOFFSETFROM:+0000
TZOFFSETTO:+0000
TZNAME:UTC
DTSTART:20250101T000000
END:STANDARD
END:VTIMEZONE
BEGIN:VEVENT
DTSTART;TZID=UTC:20260425T180000
DTEND;TZID=UTC:20260425T210000
DTSTAMP:20260422T031431
CREATED:20260227T001925Z
LAST-MODIFIED:20260227T001925Z
UID:1431-1777140000-1777150800@wedgebrothers.com
SUMMARY:TOM ROJAS - SOLO EVENT AT CANYON GATE COUNRTY CLUB
DESCRIPTION:Tom will be performing a solo event for the membership at Canyon Gate Country Club! \nSaturday\, April 25th\, 6:00 pm – 9:00 pm \n 
URL:https://wedgebrothers.com/event/tom-rojas-solo-event-at-canyon-gate-counrty-club/
LOCATION:Canyon Gate Country Club\, 2001 Canyon Gate Drive\, Las Vegas\, Nevada\, 89117
CATEGORIES:Live Music,The Wedge Brothers,Tom Rojas
ATTACH;FMTTYPE=image/png:https://wedgebrothers.com/wp-content/uploads/2025/12/Screenshot-2025-12-09-at-8.29.01-AM.png
END:VEVENT
END:VCALENDAR